







BEGIN:VCALENDAR
VERSION:2.0
PRODID:-//New York Flyers - ECPv6.15.20//NONSGML v1.0//EN
CALSCALE:GREGORIAN
METHOD:PUBLISH
X-WR-CALNAME:New York Flyers
X-ORIGINAL-URL:https://nyflyers.org
X-WR-CALDESC:Events for New York Flyers
REFRESH-INTERVAL;VALUE=DURATION:PT1H
X-Robots-Tag:noindex
X-PUBLISHED-TTL:PT1H
BEGIN:VTIMEZONE
TZID:America/New_York
BEGIN:DAYLIGHT
TZOFFSETFROM:-0500
TZOFFSETTO:-0400
TZNAME:EDT
DTSTART:20250309T070000
END:DAYLIGHT
BEGIN:STANDARD
TZOFFSETFROM:-0400
TZOFFSETTO:-0500
TZNAME:EST
DTSTART:20251102T060000
END:STANDARD
BEGIN:DAYLIGHT
TZOFFSETFROM:-0500
TZOFFSETTO:-0400
TZNAME:EDT
DTSTART:20260308T070000
END:DAYLIGHT
BEGIN:STANDARD
TZOFFSETFROM:-0400
TZOFFSETTO:-0500
TZNAME:EST
DTSTART:20261101T060000
END:STANDARD
BEGIN:DAYLIGHT
TZOFFSETFROM:-0500
TZOFFSETTO:-0400
TZNAME:EDT
DTSTART:20270314T070000
END:DAYLIGHT
BEGIN:STANDARD
TZOFFSETFROM:-0400
TZOFFSETTO:-0500
TZNAME:EST
DTSTART:20271107T060000
END:STANDARD
END:VTIMEZONE
BEGIN:VEVENT
DTSTART;TZID=America/New_York:20260418T090000
DTEND;TZID=America/New_York:20260418T100000
DTSTAMP:20260421T175119
CREATED:20260323T005829Z
LAST-MODIFIED:20260407T023144Z
UID:30643-1776502800-1776506400@nyflyers.org
SUMMARY:Saturdays 9am | Central Park
DESCRIPTION:Weekly Group Run: six mile loop on the Bridle path or the Central Park Loop (Ted Corbitt Drive). When: 9:00am every Saturday.  \n\n\n\nWhere: meet at the lamp post at the North-West corner of the intersection of the 72nd Street Transverse and East Drive.  \n\n\n\nPace: various\, depending on group.  \n\n\n\nDuration: about 1 hour. \n\n\n\nLeader: contact Ed Altman\, David Gaines or email weeklyruns@nyflyers.org with any questions or check out NYF Weekly Group Runs on Heylo.Please connect with the group leaders if you have any questions\, or are new to the group. \n\n\n\nAll attendees are expected to adhere to NYS\, RRCA and USATF guidelines.
URL:https://nyflyers.org/event/saturdays-9am-central-park/2026-04-18/
CATEGORIES:Weekly Runs
ATTACH;FMTTYPE=image/jpeg:https://nyflyers.org/wp-content/uploads/2020/11/group_run_sat_morning.jpg
ORGANIZER;CN="Ed Altman":MAILTO:ed@edaltman.com
END:VEVENT
BEGIN:VEVENT
DTSTART;TZID=America/New_York:20260411T090000
DTEND;TZID=America/New_York:20260411T100000
DTSTAMP:20260421T175119
CREATED:20260323T005829Z
LAST-MODIFIED:20260407T023144Z
UID:30642-1775898000-1775901600@nyflyers.org
SUMMARY:Saturdays 9am | Central Park
DESCRIPTION:Weekly Group Run: six mile loop on the Bridle path or the Central Park Loop (Ted Corbitt Drive). When: 9:00am every Saturday.  \n\n\n\nWhere: meet at the lamp post at the North-West corner of the intersection of the 72nd Street Transverse and East Drive.  \n\n\n\nPace: various\, depending on group.  \n\n\n\nDuration: about 1 hour. \n\n\n\nLeader: contact Ed Altman\, David Gaines or email weeklyruns@nyflyers.org with any questions or check out NYF Weekly Group Runs on Heylo.Please connect with the group leaders if you have any questions\, or are new to the group. \n\n\n\nAll attendees are expected to adhere to NYS\, RRCA and USATF guidelines.
URL:https://nyflyers.org/event/saturdays-9am-central-park/2026-04-11/
CATEGORIES:Weekly Runs
ATTACH;FMTTYPE=image/jpeg:https://nyflyers.org/wp-content/uploads/2020/11/group_run_sat_morning.jpg
ORGANIZER;CN="Ed Altman":MAILTO:ed@edaltman.com
END:VEVENT
BEGIN:VEVENT
DTSTART;TZID=America/New_York:20260404T090000
DTEND;TZID=America/New_York:20260404T100000
DTSTAMP:20260421T175119
CREATED:20260323T005829Z
LAST-MODIFIED:20260407T023143Z
UID:30641-1775293200-1775296800@nyflyers.org
SUMMARY:Saturdays 9am | Central Park
DESCRIPTION:Weekly Group Run: six mile loop on the Bridle path or the Central Park Loop (Ted Corbitt Drive). When: 9:00am every Saturday.  \n\n\n\nWhere: meet at the lamp post at the North-West corner of the intersection of the 72nd Street Transverse and East Drive.  \n\n\n\nPace: various\, depending on group.  \n\n\n\nDuration: about 1 hour. \n\n\n\nLeader: contact Ed Altman\, David Gaines or email weeklyruns@nyflyers.org with any questions or check out NYF Weekly Group Runs on Heylo.Please connect with the group leaders if you have any questions\, or are new to the group. \n\n\n\nAll attendees are expected to adhere to NYS\, RRCA and USATF guidelines.
URL:https://nyflyers.org/event/saturdays-9am-central-park/2026-04-04/
CATEGORIES:Weekly Runs
ATTACH;FMTTYPE=image/jpeg:https://nyflyers.org/wp-content/uploads/2020/11/group_run_sat_morning.jpg
ORGANIZER;CN="Ed Altman":MAILTO:ed@edaltman.com
END:VEVENT
BEGIN:VEVENT
DTSTART;TZID=America/New_York:20260328T090000
DTEND;TZID=America/New_York:20260328T100000
DTSTAMP:20260421T175119
CREATED:20260323T005829Z
LAST-MODIFIED:20260407T023143Z
UID:30640-1774688400-1774692000@nyflyers.org
SUMMARY:Saturdays 9am | Central Park
DESCRIPTION:Weekly Group Run: six mile loop on the Bridle path or the Central Park Loop (Ted Corbitt Drive). When: 9:00am every Saturday.  \n\n\n\nWhere: meet at the lamp post at the North-West corner of the intersection of the 72nd Street Transverse and East Drive.  \n\n\n\nPace: various\, depending on group.  \n\n\n\nDuration: about 1 hour. \n\n\n\nLeader: contact Ed Altman\, David Gaines or email weeklyruns@nyflyers.org with any questions or check out NYF Weekly Group Runs on Heylo.Please connect with the group leaders if you have any questions\, or are new to the group. \n\n\n\nAll attendees are expected to adhere to NYS\, RRCA and USATF guidelines.
URL:https://nyflyers.org/event/saturdays-9am-central-park/2026-03-28/
CATEGORIES:Weekly Runs
ATTACH;FMTTYPE=image/jpeg:https://nyflyers.org/wp-content/uploads/2020/11/group_run_sat_morning.jpg
ORGANIZER;CN="Ed Altman":MAILTO:ed@edaltman.com
END:VEVENT
BEGIN:VEVENT
DTSTART;TZID=America/New_York:20260321T090000
DTEND;TZID=America/New_York:20260321T100000
DTSTAMP:20260421T175119
CREATED:20260323T005829Z
LAST-MODIFIED:20260407T023141Z
UID:30635-1774083600-1774087200@nyflyers.org
SUMMARY:Saturdays 9am | Central Park
DESCRIPTION:Weekly Group Run: six mile loop on the Bridle path or the Central Park Loop (Ted Corbitt Drive). When: 9:00am every Saturday.  \n\n\n\nWhere: meet at the lamp post at the North-West corner of the intersection of the 72nd Street Transverse and East Drive.  \n\n\n\nPace: various\, depending on group.  \n\n\n\nDuration: about 1 hour. \n\n\n\nLeader: contact Ed Altman\, David Gaines or email weeklyruns@nyflyers.org with any questions or check out NYF Weekly Group Runs on Heylo.Please connect with the group leaders if you have any questions\, or are new to the group. \n\n\n\nAll attendees are expected to adhere to NYS\, RRCA and USATF guidelines.
URL:https://nyflyers.org/event/saturdays-9am-central-park/2026-03-21/
CATEGORIES:Weekly Runs
ATTACH;FMTTYPE=image/jpeg:https://nyflyers.org/wp-content/uploads/2020/11/group_run_sat_morning.jpg
ORGANIZER;CN="Ed Altman":MAILTO:ed@edaltman.com
END:VEVENT
END:VCALENDAR